BEGIN:VCALENDAR
VERSION:2.0
PRODID:-//Urbana - ECPv6.13.2.1//NONSGML v1.0//EN
CALSCALE:GREGORIAN
METHOD:PUBLISH
X-ORIGINAL-URL:https://urbana.newpreview.dev
X-WR-CALDESC:Events for Urbana
REFRESH-INTERVAL;VALUE=DURATION:PT1H
X-Robots-Tag:noindex
X-PUBLISHED-TTL:PT1H
BEGIN:VTIMEZONE
TZID:America/Los_Angeles
BEGIN:DAYLIGHT
TZOFFSETFROM:-0800
TZOFFSETTO:-0700
TZNAME:PDT
DTSTART:20260308T100000
END:DAYLIGHT
BEGIN:STANDARD
TZOFFSETFROM:-0700
TZOFFSETTO:-0800
TZNAME:PST
DTSTART:20261101T090000
END:STANDARD
END:VTIMEZONE
BEGIN:VEVENT
DTSTART;TZID=America/Los_Angeles:20260415T170000
DTEND;TZID=America/Los_Angeles:20260415T210000
DTSTAMP:20260419T050202
CREATED:20260406T143931Z
LAST-MODIFIED:20260406T143931Z
UID:10000017-1776272400-1776286800@urbana.newpreview.dev
SUMMARY:Happy Hour with Greenline
DESCRIPTION:Urbana hosting a Happy Hour is Lounge w Happy Hour pricing on drinks\, snacks and a Happy Hour Lounge Menu \n10$ Greenline Teenths\, 10$ 1g Greenline Concentrate (limit 2 per product\, per customer) \nHalf Off Snacks and Beverages (limit 2 Bird Snappers per customer) \nPROMO CODE: haapyhour
URL:https://urbana.newpreview.dev/event/happy-hour-with-greenline-13/
CATEGORIES:San Francisco
END:VEVENT
BEGIN:VEVENT
DTSTART;TZID=America/Los_Angeles:20260415T180000
DTEND;TZID=America/Los_Angeles:20260415T190000
DTSTAMP:20260419T050202
CREATED:20260406T141425Z
LAST-MODIFIED:20260406T141425Z
UID:10000011-1776276000-1776279600@urbana.newpreview.dev
SUMMARY:Mocktail Happy Hour with Jamie Evans + Book Signing
DESCRIPTION:Sip elevated mocktails made with Cann while meeting Jamie Evans. Includes a book signing and relaxed social hour. More details to come.
URL:https://urbana.newpreview.dev/event/mocktail-happy-hour-with-jamie-evans-book-signing/
CATEGORIES:Oakland
END:VEVENT
BEGIN:VEVENT
DTSTART;TZID=America/Los_Angeles:20260415T190000
DTEND;TZID=America/Los_Angeles:20260415T210000
DTSTAMP:20260419T050202
CREATED:20260406T150752Z
LAST-MODIFIED:20260406T150752Z
UID:10000025-1776279600-1776286800@urbana.newpreview.dev
SUMMARY:Puff & Purl with Fiber & Friends
DESCRIPTION:Time: 7:00 PM\nLocation: Urbana Lounge\nDetails:\nJoin Fiber & Friends knitting club for a cozy\, social crafting night
URL:https://urbana.newpreview.dev/event/puff-purl-with-fiber-friends/
CATEGORIES:San Francisco
END:VEVENT
END:VCALENDAR